BEGIN:VCALENDAR
VERSION:2.0
PRODID:-//Altschützengesellschaft Pullach e.V. - ECPv6.15.11//NONSGML v1.0//EN
CALSCALE:GREGORIAN
METHOD:PUBLISH
X-ORIGINAL-URL:https://altschuetzen-pullach.de
X-WR-CALDESC:Veranstaltungen für Altschützengesellschaft Pullach e.V.
REFRESH-INTERVAL;VALUE=DURATION:PT1H
X-Robots-Tag:noindex
X-PUBLISHED-TTL:PT1H
BEGIN:VTIMEZONE
TZID:Europe/Berlin
BEGIN:DAYLIGHT
TZOFFSETFROM:+0100
TZOFFSETTO:+0200
TZNAME:CEST
DTSTART:20250330T010000
END:DAYLIGHT
BEGIN:STANDARD
TZOFFSETFROM:+0200
TZOFFSETTO:+0100
TZNAME:CET
DTSTART:20251026T010000
END:STANDARD
BEGIN:DAYLIGHT
TZOFFSETFROM:+0100
TZOFFSETTO:+0200
TZNAME:CEST
DTSTART:20260329T010000
END:DAYLIGHT
BEGIN:STANDARD
TZOFFSETFROM:+0200
TZOFFSETTO:+0100
TZNAME:CET
DTSTART:20261025T010000
END:STANDARD
BEGIN:DAYLIGHT
TZOFFSETFROM:+0100
TZOFFSETTO:+0200
TZNAME:CEST
DTSTART:20270328T010000
END:DAYLIGHT
BEGIN:STANDARD
TZOFFSETFROM:+0200
TZOFFSETTO:+0100
TZNAME:CET
DTSTART:20271031T010000
END:STANDARD
END:VTIMEZONE
BEGIN:VEVENT
DTSTART;TZID=Europe/Berlin:20260424T190000
DTEND;TZID=Europe/Berlin:20260424T220000
DTSTAMP:20260423T102508
CREATED:20260204T185730Z
LAST-MODIFIED:20260204T185730Z
UID:4048-1777057200-1777068000@altschuetzen-pullach.de
SUMMARY:Endschießen / Königsschuss
DESCRIPTION:
URL:https://altschuetzen-pullach.de/termine/endschiessen-koenigsschuss-4/
END:VEVENT
BEGIN:VEVENT
DTSTART;TZID=Europe/Berlin:20260515T200000
DTEND;TZID=Europe/Berlin:20260515T230000
DTSTAMP:20260423T102508
CREATED:20260204T185843Z
LAST-MODIFIED:20260204T185936Z
UID:4050-1778875200-1778886000@altschuetzen-pullach.de
SUMMARY:Preisverteilung Endschießen\, Jahreswertung\, Vereinsmeisterschaft\, Königsschießen
DESCRIPTION:
URL:https://altschuetzen-pullach.de/termine/endschiessen-koenigsschuss-letzte-jahreswertung/
END:VEVENT
BEGIN:VEVENT
DTSTART;VALUE=DATE:20260607
DTEND;VALUE=DATE:20260608
DTSTAMP:20260423T102508
CREATED:20260204T190104Z
LAST-MODIFIED:20260204T190104Z
UID:4053-1780790400-1780876799@altschuetzen-pullach.de
SUMMARY:Festsonntag 125-Jahrfeier Persdorf
DESCRIPTION:
URL:https://altschuetzen-pullach.de/termine/festsonntag-125-jahrfeier-persdorf/
END:VEVENT
BEGIN:VEVENT
DTSTART;TZID=Europe/Berlin:20260620T080000
DTEND;TZID=Europe/Berlin:20260620T170000
DTSTAMP:20260423T102508
CREATED:20260204T190219Z
LAST-MODIFIED:20260204T190219Z
UID:4055-1781942400-1781974800@altschuetzen-pullach.de
SUMMARY:Grillfest ASG Pullach (geplant)
DESCRIPTION:
URL:https://altschuetzen-pullach.de/termine/grillfest-asg-pullach-geplant/
END:VEVENT
BEGIN:VEVENT
DTSTART;TZID=Europe/Berlin:20260918T190000
DTEND;TZID=Europe/Berlin:20260918T220000
DTSTAMP:20260423T102508
CREATED:20260204T190338Z
LAST-MODIFIED:20260204T190338Z
UID:4057-1789758000-1789768800@altschuetzen-pullach.de
SUMMARY:Saisonbeginn: Freies Training
DESCRIPTION:
URL:https://altschuetzen-pullach.de/termine/saisonbeginn-freies-training/
END:VEVENT
BEGIN:VEVENT
DTSTART;TZID=Europe/Berlin:20260925T190000
DTEND;TZID=Europe/Berlin:20260925T220000
DTSTAMP:20260423T102508
CREATED:20260204T190428Z
LAST-MODIFIED:20260204T190428Z
UID:4059-1790362800-1790373600@altschuetzen-pullach.de
SUMMARY:Anfangsschießen
DESCRIPTION:
URL:https://altschuetzen-pullach.de/termine/anfangsschiessen-3/
END:VEVENT
BEGIN:VEVENT
DTSTART;TZID=Europe/Berlin:20261009T190000
DTEND;TZID=Europe/Berlin:20261009T220000
DTSTAMP:20260423T102508
CREATED:20260204T190554Z
LAST-MODIFIED:20260204T190554Z
UID:4061-1791572400-1791583200@altschuetzen-pullach.de
SUMMARY:Freundschaftsschießen ASG Pullach vs. FSG Bad Aibling
DESCRIPTION:
URL:https://altschuetzen-pullach.de/termine/freundschaftsschiessen-asg-pullach-vs-fsg-bad-aibling-2/
LOCATION:ASG Pullach\, Pullacher Au 1\, Kolbermoor\, 83059\, Deutschland
END:VEVENT
BEGIN:VEVENT
DTSTART;TZID=Europe/Berlin:20261022T200000
DTEND;TZID=Europe/Berlin:20261022T230000
DTSTAMP:20260423T102508
CREATED:20260204T190635Z
LAST-MODIFIED:20260204T190635Z
UID:4063-1792699200-1792710000@altschuetzen-pullach.de
SUMMARY:Jahreshauptversammlung mit Neuwahlen
DESCRIPTION:
URL:https://altschuetzen-pullach.de/termine/jahreshauptversammlung-mit-neuwahlen/
END:VEVENT
BEGIN:VEVENT
DTSTART;TZID=Europe/Berlin:20261212T180000
DTEND;TZID=Europe/Berlin:20261212T230000
DTSTAMP:20260423T102508
CREATED:20260204T190719Z
LAST-MODIFIED:20260204T190719Z
UID:4065-1797098400-1797116400@altschuetzen-pullach.de
SUMMARY:Packerlschießen mit Weihnachtsfeier
DESCRIPTION:
URL:https://altschuetzen-pullach.de/termine/packerlschiessen-mit-weihnachtsfeier/
END:VEVENT
END:VCALENDAR