BEGIN:VCALENDAR
VERSION:2.0
PRODID:-//Altschützengesellschaft Pullach e.V. - ECPv6.15.11//NONSGML v1.0//EN
CALSCALE:GREGORIAN
METHOD:PUBLISH
X-ORIGINAL-URL:https://altschuetzen-pullach.de
X-WR-CALDESC:Veranstaltungen für Altschützengesellschaft Pullach e.V.
REFRESH-INTERVAL;VALUE=DURATION:PT1H
X-Robots-Tag:noindex
X-PUBLISHED-TTL:PT1H
BEGIN:VTIMEZONE
TZID:Europe/Berlin
BEGIN:DAYLIGHT
TZOFFSETFROM:+0100
TZOFFSETTO:+0200
TZNAME:CEST
DTSTART:20240331T010000
END:DAYLIGHT
BEGIN:STANDARD
TZOFFSETFROM:+0200
TZOFFSETTO:+0100
TZNAME:CET
DTSTART:20241027T010000
END:STANDARD
BEGIN:DAYLIGHT
TZOFFSETFROM:+0100
TZOFFSETTO:+0200
TZNAME:CEST
DTSTART:20250330T010000
END:DAYLIGHT
BEGIN:STANDARD
TZOFFSETFROM:+0200
TZOFFSETTO:+0100
TZNAME:CET
DTSTART:20251026T010000
END:STANDARD
BEGIN:DAYLIGHT
TZOFFSETFROM:+0100
TZOFFSETTO:+0200
TZNAME:CEST
DTSTART:20260329T010000
END:DAYLIGHT
BEGIN:STANDARD
TZOFFSETFROM:+0200
TZOFFSETTO:+0100
TZNAME:CET
DTSTART:20261025T010000
END:STANDARD
BEGIN:DAYLIGHT
TZOFFSETFROM:+0100
TZOFFSETTO:+0200
TZNAME:CEST
DTSTART:20270328T010000
END:DAYLIGHT
BEGIN:STANDARD
TZOFFSETFROM:+0200
TZOFFSETTO:+0100
TZNAME:CET
DTSTART:20271031T010000
END:STANDARD
END:VTIMEZONE
BEGIN:VEVENT
DTSTART;TZID=Europe/Berlin:20260424T190000
DTEND;TZID=Europe/Berlin:20260424T220000
DTSTAMP:20260425T123634
CREATED:20260204T185730Z
LAST-MODIFIED:20260204T185730Z
UID:4048-1777057200-1777068000@altschuetzen-pullach.de
SUMMARY:Endschießen / Königsschuss
DESCRIPTION:
URL:https://altschuetzen-pullach.de/termine/endschiessen-koenigsschuss-4/
END:VEVENT
BEGIN:VEVENT
DTSTART;TZID=Europe/Berlin:20260417T190000
DTEND;TZID=Europe/Berlin:20260417T220000
DTSTAMP:20260425T123634
CREATED:20260204T185659Z
LAST-MODIFIED:20260204T185659Z
UID:4046-1776452400-1776463200@altschuetzen-pullach.de
SUMMARY:Endschießen / Königsschuss
DESCRIPTION:
URL:https://altschuetzen-pullach.de/termine/endschiessen-koenigsschuss-3/
END:VEVENT
BEGIN:VEVENT
DTSTART;TZID=Europe/Berlin:20260327T190000
DTEND;TZID=Europe/Berlin:20260327T220000
DTSTAMP:20260425T123634
CREATED:20260204T185605Z
LAST-MODIFIED:20260204T185605Z
UID:4044-1774638000-1774648800@altschuetzen-pullach.de
SUMMARY:Vereinsmeisterschaft ASG Pullach
DESCRIPTION:
URL:https://altschuetzen-pullach.de/termine/vereinsmeisterschaft-asg-pullach-4/
END:VEVENT
BEGIN:VEVENT
DTSTART;TZID=Europe/Berlin:20260320T190000
DTEND;TZID=Europe/Berlin:20260320T220000
DTSTAMP:20260425T123634
CREATED:20260204T185530Z
LAST-MODIFIED:20260204T185530Z
UID:4042-1774033200-1774044000@altschuetzen-pullach.de
SUMMARY:Vereinsmeisterschaft ASG Pullach
DESCRIPTION:
URL:https://altschuetzen-pullach.de/termine/vereinsmeisterschaft-asg-pullach-3/
END:VEVENT
BEGIN:VEVENT
DTSTART;TZID=Europe/Berlin:20260314T200000
DTEND;TZID=Europe/Berlin:20260314T230000
DTSTAMP:20260425T123634
CREATED:20260204T151916Z
LAST-MODIFIED:20260204T151916Z
UID:4034-1773518400-1773529200@altschuetzen-pullach.de
SUMMARY:Gauschützenball
DESCRIPTION:Einlass: 19:00 Uhr \nBeginn: Einzug der Schützenkönige 20:00 Uhr
URL:https://altschuetzen-pullach.de/termine/gauschuetzenball-4/
LOCATION:Gasthof zur Post\, Rohrdorf\, Dorfplatz 14\, Rohrdorf\, 83131
END:VEVENT
BEGIN:VEVENT
DTSTART;TZID=Europe/Berlin:20260313T190000
DTEND;TZID=Europe/Berlin:20260313T220000
DTSTAMP:20260425T123634
CREATED:20260204T185454Z
LAST-MODIFIED:20260204T185454Z
UID:4040-1773428400-1773439200@altschuetzen-pullach.de
SUMMARY:Vereinsmeisterschaft ASG Pullach
DESCRIPTION:
URL:https://altschuetzen-pullach.de/termine/vereinsmeisterschaft-asg-pullach-2/
END:VEVENT
BEGIN:VEVENT
DTSTART;TZID=Europe/Berlin:20260313T190000
DTEND;TZID=Europe/Berlin:20260313T220000
DTSTAMP:20260425T123634
CREATED:20260204T185417Z
LAST-MODIFIED:20260204T185417Z
UID:4038-1773428400-1773439200@altschuetzen-pullach.de
SUMMARY:Schafkopfturnier Rauchclub Pullach
DESCRIPTION:
URL:https://altschuetzen-pullach.de/termine/schafkopfturnier-rauchclub-pullach/
END:VEVENT
BEGIN:VEVENT
DTSTART;TZID=Europe/Berlin:20260306T200000
DTEND;TZID=Europe/Berlin:20260306T230000
DTSTAMP:20260425T123634
CREATED:20260204T151637Z
LAST-MODIFIED:20260204T151637Z
UID:4032-1772827200-1772838000@altschuetzen-pullach.de
SUMMARY:Rundenwettkampf ASG Pullach vs. Neufahrn-Parsdorf
DESCRIPTION:
URL:https://altschuetzen-pullach.de/termine/rundenwettkampf-asg-pullach-vs-neufahrn-parsdorf/
END:VEVENT
BEGIN:VEVENT
DTSTART;TZID=Europe/Berlin:20260227T180000
DTEND;TZID=Europe/Berlin:20260227T230000
DTSTAMP:20260425T123634
CREATED:20260204T150616Z
LAST-MODIFIED:20260204T150616Z
UID:4030-1772215200-1772233200@altschuetzen-pullach.de
SUMMARY:Freundschaftsschießen FSG Bad Aibling vs. ASG Pullach / Stand in Pullach geschlossen
DESCRIPTION:
URL:https://altschuetzen-pullach.de/termine/freundschaftsschiessen-fsg-bad-aibling-vs-asg-pullach-stand-in-pullach-geschlossen/
LOCATION:FSG Bad Aibling (im VHS-Gebäude)\, Heubergstraße 2\, Bad Aibling\, 83043
END:VEVENT
BEGIN:VEVENT
DTSTART;TZID=Europe/Berlin:20260209T193000
DTEND;TZID=Europe/Berlin:20260209T230000
DTSTAMP:20260425T123634
CREATED:20260204T141322Z
LAST-MODIFIED:20260204T141322Z
UID:4027-1770665400-1770678000@altschuetzen-pullach.de
SUMMARY:Rundenwettkampf ASG vs. Tulling (auswärts)
DESCRIPTION:
URL:https://altschuetzen-pullach.de/termine/rundenwettkampf-asg-vs-tulling-auswaerts/
END:VEVENT
BEGIN:VEVENT
DTSTART;TZID=Europe/Berlin:20260207T140000
DTEND;TZID=Europe/Berlin:20260207T170000
DTSTAMP:20260425T123634
CREATED:20260204T140905Z
LAST-MODIFIED:20260204T140905Z
UID:4025-1770472800-1770483600@altschuetzen-pullach.de
SUMMARY:Kaffekränzchen mit Auftritt "unseres" Pullacher / Kolbermoorer Prinzenpaares des Faschingsverein Mangfalltal e.V.
DESCRIPTION:
URL:https://altschuetzen-pullach.de/termine/kaffekraenzchen-mit-auftritt-unseres-pullacher-kolbermoorer-prinzenpaares-des-faschingsverein-mangfalltal-e-v/
END:VEVENT
BEGIN:VEVENT
DTSTART;TZID=Europe/Berlin:20260206T200000
DTEND;TZID=Europe/Berlin:20260206T230000
DTSTAMP:20260425T123634
CREATED:20260204T140427Z
LAST-MODIFIED:20260204T140427Z
UID:4021-1770408000-1770418800@altschuetzen-pullach.de
SUMMARY:Rundenwettkampf ASG vs. Bad Tölz
DESCRIPTION:
URL:https://altschuetzen-pullach.de/termine/rundenwettkampf-asg-vs-bad-toelz/
END:VEVENT
BEGIN:VEVENT
DTSTART;TZID=Europe/Berlin:20260206T190000
DTEND;TZID=Europe/Berlin:20260206T200000
DTSTAMP:20260425T123634
CREATED:20260204T140322Z
LAST-MODIFIED:20260204T140322Z
UID:4016-1770404400-1770408000@altschuetzen-pullach.de
SUMMARY:Jahreswertung
DESCRIPTION:
URL:https://altschuetzen-pullach.de/termine/jahreswertung/
END:VEVENT
BEGIN:VEVENT
DTSTART;TZID=Europe/Berlin:20260203T200000
DTEND;TZID=Europe/Berlin:20260203T220000
DTSTAMP:20260425T123634
CREATED:20260204T140616Z
LAST-MODIFIED:20260204T140616Z
UID:4023-1770148800-1770156000@altschuetzen-pullach.de
SUMMARY:Jahreshauptversammlung Schützengau Rosenheim
DESCRIPTION:
URL:https://altschuetzen-pullach.de/termine/jahreshauptversammlung-schuetzengau-rosenheim-2/
LOCATION:Kapser Hochstätt
END:VEVENT
BEGIN:VEVENT
DTSTART;TZID=Europe/Berlin:20251219T190000
DTEND;TZID=Europe/Berlin:20251219T220000
DTSTAMP:20260425T123634
CREATED:20250930T145429Z
LAST-MODIFIED:20250930T145429Z
UID:3979-1766170800-1766181600@altschuetzen-pullach.de
SUMMARY:Jahreswertungsschießen
DESCRIPTION:
URL:https://altschuetzen-pullach.de/termine/jahreswertungsschiessen-28/
END:VEVENT
BEGIN:VEVENT
DTSTART;TZID=Europe/Berlin:20251213T183000
DTEND;TZID=Europe/Berlin:20251213T230000
DTSTAMP:20260425T123634
CREATED:20250514T165200Z
LAST-MODIFIED:20250514T165200Z
UID:3875-1765650600-1765666800@altschuetzen-pullach.de
SUMMARY:Packerlschießen mit anschließender Weihnachtsfeier
DESCRIPTION:
URL:https://altschuetzen-pullach.de/termine/packerlschiessen-mit-anschliessender-weihnachtsfeier/
LOCATION:ASG Pullach\, Pullacher Au 1\, Kolbermoor\, 83059\, Deutschland
END:VEVENT
BEGIN:VEVENT
DTSTART;TZID=Europe/Berlin:20251212T190000
DTEND;TZID=Europe/Berlin:20251212T220000
DTSTAMP:20260425T123634
CREATED:20250930T145353Z
LAST-MODIFIED:20250930T145353Z
UID:3977-1765566000-1765576800@altschuetzen-pullach.de
SUMMARY:Jahreswertungsschießen
DESCRIPTION:
URL:https://altschuetzen-pullach.de/termine/jahreswertungsschiessen-27/
END:VEVENT
BEGIN:VEVENT
DTSTART;TZID=Europe/Berlin:20251210T200000
DTEND;TZID=Europe/Berlin:20251210T230000
DTSTAMP:20260425T123634
CREATED:20250930T145321Z
LAST-MODIFIED:20250930T145321Z
UID:3974-1765396800-1765407600@altschuetzen-pullach.de
SUMMARY:LP Rundenwettkampf Oberbayernliga in Neufahrn-Parsberg
DESCRIPTION:
URL:https://altschuetzen-pullach.de/termine/lp-rundenwettkampf-oberbayernliga-in-neufahrn-parsberg/
END:VEVENT
BEGIN:VEVENT
DTSTART;TZID=Europe/Berlin:20251207T140000
DTEND;TZID=Europe/Berlin:20251207T180000
DTSTAMP:20260425T123634
CREATED:20250312T091122Z
LAST-MODIFIED:20250312T091123Z
UID:3822-1765116000-1765130400@altschuetzen-pullach.de
SUMMARY:Weihnachtsfeier Feuerwehr Pullach
DESCRIPTION:
URL:https://altschuetzen-pullach.de/termine/weihnachtsfeier-feuerwehr-pullach-2/
END:VEVENT
BEGIN:VEVENT
DTSTART;TZID=Europe/Berlin:20251205T190000
DTEND;TZID=Europe/Berlin:20251205T220000
DTSTAMP:20260425T123634
CREATED:20250930T145223Z
LAST-MODIFIED:20250930T145223Z
UID:3972-1764961200-1764972000@altschuetzen-pullach.de
SUMMARY:Jahreswertungsschießen
DESCRIPTION:
URL:https://altschuetzen-pullach.de/termine/jahreswertungsschiessen-26/
END:VEVENT
BEGIN:VEVENT
DTSTART;TZID=Europe/Berlin:20251128T200000
DTEND;TZID=Europe/Berlin:20251128T223000
DTSTAMP:20260425T123634
CREATED:20250930T145129Z
LAST-MODIFIED:20250930T145129Z
UID:3970-1764360000-1764369000@altschuetzen-pullach.de
SUMMARY:LP Rundenwettkampf Oberbayernliga vs. Tulling
DESCRIPTION:
URL:https://altschuetzen-pullach.de/termine/lp-rundenwettkampf-oberbayernliga-vs-tulling/
END:VEVENT
BEGIN:VEVENT
DTSTART;TZID=Europe/Berlin:20251128T190000
DTEND;TZID=Europe/Berlin:20251128T200000
DTSTAMP:20260425T123634
CREATED:20250930T145040Z
LAST-MODIFIED:20250930T145040Z
UID:3967-1764356400-1764360000@altschuetzen-pullach.de
SUMMARY:Jahreswertungsschießen
DESCRIPTION:
URL:https://altschuetzen-pullach.de/termine/jahreswertungsschiessen-25/
END:VEVENT
BEGIN:VEVENT
DTSTART;TZID=Europe/Berlin:20251121T190000
DTEND;TZID=Europe/Berlin:20251121T220000
DTSTAMP:20260425T123634
CREATED:20250930T144934Z
LAST-MODIFIED:20250930T144934Z
UID:3964-1763751600-1763762400@altschuetzen-pullach.de
SUMMARY:Jahreswertungsschießen
DESCRIPTION:
URL:https://altschuetzen-pullach.de/termine/jahreswertungsschiessen-24/
END:VEVENT
BEGIN:VEVENT
DTSTART;TZID=Europe/Berlin:20251119T200000
DTEND;TZID=Europe/Berlin:20251119T230000
DTSTAMP:20260425T123634
CREATED:20250930T144902Z
LAST-MODIFIED:20250930T144902Z
UID:3962-1763582400-1763593200@altschuetzen-pullach.de
SUMMARY:LP Rundenwettkampf Oberbayernliga in Bad Tölz
DESCRIPTION:
URL:https://altschuetzen-pullach.de/termine/lp-rundenwettkampf-oberbayernliga-in-bad-toelz/
END:VEVENT
BEGIN:VEVENT
DTSTART;TZID=Europe/Berlin:20251116T084500
DTEND;TZID=Europe/Berlin:20251116T130000
DTSTAMP:20260425T123634
CREATED:20250514T165819Z
LAST-MODIFIED:20250514T165819Z
UID:3881-1763282700-1763298000@altschuetzen-pullach.de
SUMMARY:Volkstrauertag
DESCRIPTION:
URL:https://altschuetzen-pullach.de/termine/volkstrauertag-2/
LOCATION:Pfarrkirche St. Jakobus Willing\, Berblinger Str. 12\, Bad Aibling\, 83043\, Deutschland
END:VEVENT
BEGIN:VEVENT
DTSTART;TZID=Europe/Berlin:20251114T190000
DTEND;TZID=Europe/Berlin:20251114T220000
DTSTAMP:20260425T123634
CREATED:20250930T144743Z
LAST-MODIFIED:20250930T144743Z
UID:3960-1763146800-1763157600@altschuetzen-pullach.de
SUMMARY:Jahreswertungsschießen
DESCRIPTION:
URL:https://altschuetzen-pullach.de/termine/jahreswertungsschiessen-23/
END:VEVENT
BEGIN:VEVENT
DTSTART;TZID=Europe/Berlin:20251107T190000
DTEND;TZID=Europe/Berlin:20251107T220000
DTSTAMP:20260425T123634
CREATED:20250930T144703Z
LAST-MODIFIED:20250930T144703Z
UID:3958-1762542000-1762552800@altschuetzen-pullach.de
SUMMARY:Jahreswertungsschießen
DESCRIPTION:
URL:https://altschuetzen-pullach.de/termine/jahreswertungsschiessen-22/
END:VEVENT
BEGIN:VEVENT
DTSTART;TZID=Europe/Berlin:20251031T200000
DTEND;TZID=Europe/Berlin:20251031T223000
DTSTAMP:20260425T123634
CREATED:20250930T144603Z
LAST-MODIFIED:20250930T144603Z
UID:3956-1761940800-1761949800@altschuetzen-pullach.de
SUMMARY:LP Rundenwettkampf Oberbayernliga vs. Ingelsberg
DESCRIPTION:
URL:https://altschuetzen-pullach.de/termine/lp-rundenwettkampf-oberbayernliga-vs-ingelsberg/
END:VEVENT
BEGIN:VEVENT
DTSTART;TZID=Europe/Berlin:20251031T190000
DTEND;TZID=Europe/Berlin:20251031T200000
DTSTAMP:20260425T123634
CREATED:20250930T144525Z
LAST-MODIFIED:20250930T144525Z
UID:3954-1761937200-1761940800@altschuetzen-pullach.de
SUMMARY:Jahreswertungsschießen
DESCRIPTION:
URL:https://altschuetzen-pullach.de/termine/jahreswertungsschiessen-21/
END:VEVENT
BEGIN:VEVENT
DTSTART;TZID=Europe/Berlin:20251024T190000
DTEND;TZID=Europe/Berlin:20251024T220000
DTSTAMP:20260425T123634
CREATED:20250930T144423Z
LAST-MODIFIED:20250930T144423Z
UID:3952-1761332400-1761343200@altschuetzen-pullach.de
SUMMARY:Jahreswertungsschießen
DESCRIPTION:
URL:https://altschuetzen-pullach.de/termine/jahreswertungsschiessen-20/
END:VEVENT
END:VCALENDAR