BEGIN:VCALENDAR
VERSION:2.0
PRODID:-//Altschützengesellschaft Pullach e.V. - ECPv6.15.11//NONSGML v1.0//EN
CALSCALE:GREGORIAN
METHOD:PUBLISH
X-WR-CALNAME:Altschützengesellschaft Pullach e.V.
X-ORIGINAL-URL:https://altschuetzen-pullach.de
X-WR-CALDESC:Veranstaltungen für Altschützengesellschaft Pullach e.V.
REFRESH-INTERVAL;VALUE=DURATION:PT1H
X-Robots-Tag:noindex
X-PUBLISHED-TTL:PT1H
BEGIN:VTIMEZONE
TZID:Europe/Berlin
BEGIN:DAYLIGHT
TZOFFSETFROM:+0100
TZOFFSETTO:+0200
TZNAME:CEST
DTSTART:20240331T010000
END:DAYLIGHT
BEGIN:STANDARD
TZOFFSETFROM:+0200
TZOFFSETTO:+0100
TZNAME:CET
DTSTART:20241027T010000
END:STANDARD
BEGIN:DAYLIGHT
TZOFFSETFROM:+0100
TZOFFSETTO:+0200
TZNAME:CEST
DTSTART:20250330T010000
END:DAYLIGHT
BEGIN:STANDARD
TZOFFSETFROM:+0200
TZOFFSETTO:+0100
TZNAME:CET
DTSTART:20251026T010000
END:STANDARD
BEGIN:DAYLIGHT
TZOFFSETFROM:+0100
TZOFFSETTO:+0200
TZNAME:CEST
DTSTART:20260329T010000
END:DAYLIGHT
BEGIN:STANDARD
TZOFFSETFROM:+0200
TZOFFSETTO:+0100
TZNAME:CET
DTSTART:20261025T010000
END:STANDARD
END:VTIMEZONE
BEGIN:VEVENT
DTSTART;VALUE=DATE:20251003
DTEND;VALUE=DATE:20251004
DTSTAMP:20260425T140105
CREATED:20250930T143837Z
LAST-MODIFIED:20250930T143837Z
UID:3941-1759449600-1759535999@altschuetzen-pullach.de
SUMMARY:Tag der Deutschen Einheit / Keine Jahreswertung
DESCRIPTION:
URL:https://altschuetzen-pullach.de/termine/tag-der-deutschen-einheit-keine-jahreswertung/
END:VEVENT
END:VCALENDAR