BEGIN:VCALENDAR
VERSION:2.0
PRODID:-//Altschützengesellschaft Pullach e.V. - ECPv6.15.11//NONSGML v1.0//EN
CALSCALE:GREGORIAN
METHOD:PUBLISH
X-WR-CALNAME:Altschützengesellschaft Pullach e.V.
X-ORIGINAL-URL:https://altschuetzen-pullach.de
X-WR-CALDESC:Veranstaltungen für Altschützengesellschaft Pullach e.V.
REFRESH-INTERVAL;VALUE=DURATION:PT1H
X-Robots-Tag:noindex
X-PUBLISHED-TTL:PT1H
BEGIN:VTIMEZONE
TZID:Europe/Berlin
BEGIN:DAYLIGHT
TZOFFSETFROM:+0100
TZOFFSETTO:+0200
TZNAME:CEST
DTSTART:20240331T010000
END:DAYLIGHT
BEGIN:STANDARD
TZOFFSETFROM:+0200
TZOFFSETTO:+0100
TZNAME:CET
DTSTART:20241027T010000
END:STANDARD
BEGIN:DAYLIGHT
TZOFFSETFROM:+0100
TZOFFSETTO:+0200
TZNAME:CEST
DTSTART:20250330T010000
END:DAYLIGHT
BEGIN:STANDARD
TZOFFSETFROM:+0200
TZOFFSETTO:+0100
TZNAME:CET
DTSTART:20251026T010000
END:STANDARD
BEGIN:DAYLIGHT
TZOFFSETFROM:+0100
TZOFFSETTO:+0200
TZNAME:CEST
DTSTART:20260329T010000
END:DAYLIGHT
BEGIN:STANDARD
TZOFFSETFROM:+0200
TZOFFSETTO:+0100
TZNAME:CET
DTSTART:20261025T010000
END:STANDARD
END:VTIMEZONE
BEGIN:VEVENT
DTSTART;TZID=Europe/Berlin:20250919T190000
DTEND;TZID=Europe/Berlin:20250919T220000
DTSTAMP:20260425T153440
CREATED:20250514T171405Z
LAST-MODIFIED:20250514T171405Z
UID:3886-1758308400-1758319200@altschuetzen-pullach.de
SUMMARY:Saisonstart / Freies Training / Sportgeräte entstauben
DESCRIPTION:
URL:https://altschuetzen-pullach.de/termine/saisonstart-freies-training-sportgeraete-entstauben/
LOCATION:ASG Pullach\, Pullacher Au 1\, Kolbermoor\, 83059\, Deutschland
END:VEVENT
END:VCALENDAR